BEGIN:VCALENDAR
VERSION:2.0
PRODID:-//SPECTRUM - ECPv6.15.20//NONSGML v1.0//EN
CALSCALE:GREGORIAN
METHOD:PUBLISH
X-ORIGINAL-URL:https://spectrumautism.org
X-WR-CALDESC:Events for SPECTRUM
REFRESH-INTERVAL;VALUE=DURATION:PT1H
X-Robots-Tag:noindex
X-PUBLISHED-TTL:PT1H
BEGIN:VTIMEZONE
TZID:America/New_York
BEGIN:DAYLIGHT
TZOFFSETFROM:-0500
TZOFFSETTO:-0400
TZNAME:EDT
DTSTART:20240310T070000
END:DAYLIGHT
BEGIN:STANDARD
TZOFFSETFROM:-0400
TZOFFSETTO:-0500
TZNAME:EST
DTSTART:20241103T060000
END:STANDARD
BEGIN:DAYLIGHT
TZOFFSETFROM:-0500
TZOFFSETTO:-0400
TZNAME:EDT
DTSTART:20250309T070000
END:DAYLIGHT
BEGIN:STANDARD
TZOFFSETFROM:-0400
TZOFFSETTO:-0500
TZNAME:EST
DTSTART:20251102T060000
END:STANDARD
BEGIN:DAYLIGHT
TZOFFSETFROM:-0500
TZOFFSETTO:-0400
TZNAME:EDT
DTSTART:20260308T070000
END:DAYLIGHT
BEGIN:STANDARD
TZOFFSETFROM:-0400
TZOFFSETTO:-0500
TZNAME:EST
DTSTART:20261101T060000
END:STANDARD
END:VTIMEZONE
BEGIN:VEVENT
DTSTART;TZID=America/New_York:20250322T160000
DTEND;TZID=America/New_York:20250322T180000
DTSTAMP:20260422T061310
CREATED:20241223T151648Z
LAST-MODIFIED:20241223T151648Z
UID:8844-1742659200-1742666400@spectrumautism.org
SUMMARY:Table Talk Jr
DESCRIPTION:
URL:https://spectrumautism.org/event/table-talk-jr-03-22-25/
LOCATION:Jim ‘N Nicks – Marietta\, 3420 Sandy Plains Rd Bldg 100\, Marietta\, 30062\, United States
CATEGORIES:Table Talk Jr.
ATTACH;FMTTYPE=image/jpeg:https://spectrumautism.org/wp-content/uploads/2024/01/table-talk-jr-preview.jpg
END:VEVENT
END:VCALENDAR