BEGIN:VCALENDAR
VERSION:2.0
PRODID:-//SPECTRUM - ECPv6.15.20//NONSGML v1.0//EN
CALSCALE:GREGORIAN
METHOD:PUBLISH
X-ORIGINAL-URL:https://spectrumautism.org
X-WR-CALDESC:Events for SPECTRUM
REFRESH-INTERVAL;VALUE=DURATION:PT1H
X-Robots-Tag:noindex
X-PUBLISHED-TTL:PT1H
BEGIN:VTIMEZONE
TZID:America/New_York
BEGIN:DAYLIGHT
TZOFFSETFROM:-0500
TZOFFSETTO:-0400
TZNAME:EDT
DTSTART:20250309T070000
END:DAYLIGHT
BEGIN:STANDARD
TZOFFSETFROM:-0400
TZOFFSETTO:-0500
TZNAME:EST
DTSTART:20251102T060000
END:STANDARD
BEGIN:DAYLIGHT
TZOFFSETFROM:-0500
TZOFFSETTO:-0400
TZNAME:EDT
DTSTART:20260308T070000
END:DAYLIGHT
BEGIN:STANDARD
TZOFFSETFROM:-0400
TZOFFSETTO:-0500
TZNAME:EST
DTSTART:20261101T060000
END:STANDARD
BEGIN:DAYLIGHT
TZOFFSETFROM:-0500
TZOFFSETTO:-0400
TZNAME:EDT
DTSTART:20270314T070000
END:DAYLIGHT
BEGIN:STANDARD
TZOFFSETFROM:-0400
TZOFFSETTO:-0500
TZNAME:EST
DTSTART:20271107T060000
END:STANDARD
END:VTIMEZONE
BEGIN:VEVENT
DTSTART;TZID=America/New_York:20261025T170000
DTEND;TZID=America/New_York:20261025T190000
DTSTAMP:20260423T025931
CREATED:20250826T145932Z
LAST-MODIFIED:20260102T142018Z
UID:9414-1792947600-1792954800@spectrumautism.org
SUMMARY:Trunk And Treat For Teens
DESCRIPTION:
URL:https://spectrumautism.org/event/trunks-and-treats-for-teens/
LOCATION:Spectrum Support Center\, 2997 Main Street\, Duluth\, GA\, 30097\, United States
CATEGORIES:Special Event
END:VEVENT
BEGIN:VEVENT
DTSTART;TZID=America/New_York:20261107T183000
DTEND;TZID=America/New_York:20261107T213000
DTSTAMP:20260423T025931
CREATED:20200619T163336Z
LAST-MODIFIED:20260116T130325Z
UID:4535-1794076200-1794087000@spectrumautism.org
SUMMARY:StarShine Gala
DESCRIPTION:Celebrating inclusion in employment in our community \n Thank you to all who supported the 2025 StarShine gala and celebrated inclusion in the workplace. Mark Your calendars for November 7\, 2026 for the next StarShine Gala!  Employer nominations open Jan.1\, 2026.  \n				\n				\n				\n				\n			\n\n			Thank you to our 2025 event sponsors	\n	Platinum Sponsor\n\n				\n	Gold Sponsor\n\n				\n	Silver Sponsors\n\n				\n				\n				\n				\n	Bronze Sponsors
URL:https://spectrumautism.org/event/starshine-gala/
CATEGORIES:Special Event
ATTACH;FMTTYPE=image/png:https://spectrumautism.org/wp-content/uploads/2022/02/starshine-gala-logo-gold-1024x291-1.png
END:VEVENT
BEGIN:VEVENT
DTSTART;TZID=America/New_York:20261203T183000
DTEND;TZID=America/New_York:20261203T200000
DTSTAMP:20260423T025931
CREATED:20250703T151137Z
LAST-MODIFIED:20260102T143404Z
UID:9311-1796322600-1796328000@spectrumautism.org
SUMMARY:Spectrum Holiday Party
DESCRIPTION:
URL:https://spectrumautism.org/event/spectrum-holiday-party-2026/
CATEGORIES:Special Event
END:VEVENT
END:VCALENDAR