BEGIN:VCALENDAR
VERSION:2.0
PRODID:-//SPECTRUM - ECPv6.15.20//NONSGML v1.0//EN
CALSCALE:GREGORIAN
METHOD:PUBLISH
X-WR-CALNAME:SPECTRUM
X-ORIGINAL-URL:https://spectrumautism.org
X-WR-CALDESC:Events for SPECTRUM
REFRESH-INTERVAL;VALUE=DURATION:PT1H
X-Robots-Tag:noindex
X-PUBLISHED-TTL:PT1H
BEGIN:VTIMEZONE
TZID:America/New_York
BEGIN:DAYLIGHT
TZOFFSETFROM:-0500
TZOFFSETTO:-0400
TZNAME:EDT
DTSTART:20250309T070000
END:DAYLIGHT
BEGIN:STANDARD
TZOFFSETFROM:-0400
TZOFFSETTO:-0500
TZNAME:EST
DTSTART:20251102T060000
END:STANDARD
BEGIN:DAYLIGHT
TZOFFSETFROM:-0500
TZOFFSETTO:-0400
TZNAME:EDT
DTSTART:20260308T070000
END:DAYLIGHT
BEGIN:STANDARD
TZOFFSETFROM:-0400
TZOFFSETTO:-0500
TZNAME:EST
DTSTART:20261101T060000
END:STANDARD
BEGIN:DAYLIGHT
TZOFFSETFROM:-0500
TZOFFSETTO:-0400
TZNAME:EDT
DTSTART:20270314T070000
END:DAYLIGHT
BEGIN:STANDARD
TZOFFSETFROM:-0400
TZOFFSETTO:-0500
TZNAME:EST
DTSTART:20271107T060000
END:STANDARD
END:VTIMEZONE
BEGIN:VEVENT
DTSTART;TZID=America/New_York:20260404T130000
DTEND;TZID=America/New_York:20260404T150000
DTSTAMP:20260422T235520
CREATED:20241223T163225Z
LAST-MODIFIED:20260308T220402Z
UID:8861-1775307600-1775314800@spectrumautism.org
SUMMARY:Norcross Easter Egg Hunt
DESCRIPTION:
URL:https://spectrumautism.org/event/norcross-easter-egg-hunt-04-04-26/
LOCATION:GA
CATEGORIES:Special Event
ATTACH;FMTTYPE=image/jpeg:https://spectrumautism.org/wp-content/uploads/2026/02/easter-egg-hunt-2026.jpg
END:VEVENT
END:VCALENDAR