BEGIN:VCALENDAR
VERSION:2.0
PRODID:-//SPECTRUM - ECPv6.15.20//NONSGML v1.0//EN
CALSCALE:GREGORIAN
METHOD:PUBLISH
X-ORIGINAL-URL:https://spectrumautism.org
X-WR-CALDESC:Events for SPECTRUM
REFRESH-INTERVAL;VALUE=DURATION:PT1H
X-Robots-Tag:noindex
X-PUBLISHED-TTL:PT1H
BEGIN:VTIMEZONE
TZID:America/New_York
BEGIN:DAYLIGHT
TZOFFSETFROM:-0500
TZOFFSETTO:-0400
TZNAME:EDT
DTSTART:20250309T070000
END:DAYLIGHT
BEGIN:STANDARD
TZOFFSETFROM:-0400
TZOFFSETTO:-0500
TZNAME:EST
DTSTART:20251102T060000
END:STANDARD
BEGIN:DAYLIGHT
TZOFFSETFROM:-0500
TZOFFSETTO:-0400
TZNAME:EDT
DTSTART:20260308T070000
END:DAYLIGHT
BEGIN:STANDARD
TZOFFSETFROM:-0400
TZOFFSETTO:-0500
TZNAME:EST
DTSTART:20261101T060000
END:STANDARD
BEGIN:DAYLIGHT
TZOFFSETFROM:-0500
TZOFFSETTO:-0400
TZNAME:EDT
DTSTART:20270314T070000
END:DAYLIGHT
BEGIN:STANDARD
TZOFFSETFROM:-0400
TZOFFSETTO:-0500
TZNAME:EST
DTSTART:20271107T060000
END:STANDARD
END:VTIMEZONE
BEGIN:VEVENT
DTSTART;TZID=America/New_York:20260520T120000
DTEND;TZID=America/New_York:20260520T133000
DTSTAMP:20260422T150035
CREATED:20241226T164212Z
LAST-MODIFIED:20251130T210651Z
UID:8878-1779278400-1779283800@spectrumautism.org
SUMMARY:Neurodiverse Partners Support Group
DESCRIPTION:
URL:https://spectrumautism.org/event/neurodiverse-partners-support-group-05-20-26-1/
CATEGORIES:Neuro Diverse Partners Group
ATTACH;FMTTYPE=image/jpeg:https://spectrumautism.org/wp-content/uploads/2024/02/neurodiverse-partner-virtual-support-group-preview.jpg
END:VEVENT
BEGIN:VEVENT
DTSTART;TZID=America/New_York:20260520T190000
DTEND;TZID=America/New_York:20260520T203000
DTSTAMP:20260422T150035
CREATED:20241226T164355Z
LAST-MODIFIED:20251130T210727Z
UID:8879-1779303600-1779309000@spectrumautism.org
SUMMARY:Neurodiverse Partners Support Group
DESCRIPTION:The Partner Support Group is for those in neurodiverse relationships with a spouse/partner who has a confirmed or suspected autism spectrum profile. The group meeting is a positive and supportive time to share experiences\, gain information and understanding about how neurodiversity affects couple relationships.
URL:https://spectrumautism.org/event/neurodiverse-partners-support-group-05-20-26-2/
CATEGORIES:Neuro Diverse Partners Group
ATTACH;FMTTYPE=image/jpeg:https://spectrumautism.org/wp-content/uploads/2024/02/neurodiverse-partner-virtual-support-group-preview-1.jpg
END:VEVENT
BEGIN:VEVENT
DTSTART;TZID=America/New_York:20260715T120000
DTEND;TZID=America/New_York:20260715T133000
DTSTAMP:20260422T150035
CREATED:20241231T162002Z
LAST-MODIFIED:20251130T210831Z
UID:8939-1784116800-1784122200@spectrumautism.org
SUMMARY:Neurodiverse Partners Support Group
DESCRIPTION:
URL:https://spectrumautism.org/event/neurodiverse-partners-support-group-07-15-26-1/
CATEGORIES:Neuro Diverse Partners Group
ATTACH;FMTTYPE=image/jpeg:https://spectrumautism.org/wp-content/uploads/2024/02/neurodiverse-partner-virtual-support-group-preview-1.jpg
END:VEVENT
BEGIN:VEVENT
DTSTART;TZID=America/New_York:20260715T190000
DTEND;TZID=America/New_York:20260715T203000
DTSTAMP:20260422T150035
CREATED:20241231T162137Z
LAST-MODIFIED:20251130T210913Z
UID:8940-1784142000-1784147400@spectrumautism.org
SUMMARY:Neurodiverse Partners Support Group
DESCRIPTION:
URL:https://spectrumautism.org/event/neurodiverse-partners-support-group-07-15-26-2/
CATEGORIES:Neuro Diverse Partners Group
ATTACH;FMTTYPE=image/jpeg:https://spectrumautism.org/wp-content/uploads/2024/02/neurodiverse-partner-virtual-support-group-preview-1.jpg
END:VEVENT
BEGIN:VEVENT
DTSTART;TZID=America/New_York:20260916T120000
DTEND;TZID=America/New_York:20260916T133000
DTSTAMP:20260422T150035
CREATED:20241231T222212Z
LAST-MODIFIED:20251130T211001Z
UID:8957-1789560000-1789565400@spectrumautism.org
SUMMARY:Neurodiverse Partners Support Group
DESCRIPTION:
URL:https://spectrumautism.org/event/neurodiverse-partners-support-group-09-16-26-1/
CATEGORIES:Neuro Diverse Partners Group
ATTACH;FMTTYPE=image/jpeg:https://spectrumautism.org/wp-content/uploads/2024/02/neurodiverse-partner-virtual-support-group-preview.jpg
END:VEVENT
BEGIN:VEVENT
DTSTART;TZID=America/New_York:20260916T190000
DTEND;TZID=America/New_York:20260916T203000
DTSTAMP:20260422T150035
CREATED:20241231T222339Z
LAST-MODIFIED:20251130T211040Z
UID:8958-1789585200-1789590600@spectrumautism.org
SUMMARY:Neurodiverse Partners Support Group
DESCRIPTION:
URL:https://spectrumautism.org/event/neurodiverse-partners-support-group-09-16-26-2/
CATEGORIES:Neuro Diverse Partners Group
ATTACH;FMTTYPE=image/jpeg:https://spectrumautism.org/wp-content/uploads/2024/02/neurodiverse-partner-virtual-support-group-preview.jpg
END:VEVENT
BEGIN:VEVENT
DTSTART;TZID=America/New_York:20261021T120000
DTEND;TZID=America/New_York:20261021T133000
DTSTAMP:20260422T150035
CREATED:20250101T155254Z
LAST-MODIFIED:20251130T211131Z
UID:8975-1792584000-1792589400@spectrumautism.org
SUMMARY:Neurodiverse Partners Support Group
DESCRIPTION:
URL:https://spectrumautism.org/event/neurodiverse-partners-support-group-10-21-26-1/
CATEGORIES:Neuro Diverse Partners Group
ATTACH;FMTTYPE=image/jpeg:https://spectrumautism.org/wp-content/uploads/2024/02/neurodiverse-partner-virtual-support-group-preview.jpg
END:VEVENT
BEGIN:VEVENT
DTSTART;TZID=America/New_York:20261021T190000
DTEND;TZID=America/New_York:20261021T203000
DTSTAMP:20260422T150035
CREATED:20250101T155420Z
LAST-MODIFIED:20251130T211211Z
UID:8976-1792609200-1792614600@spectrumautism.org
SUMMARY:Neurodiverse Partners Support Group
DESCRIPTION:
URL:https://spectrumautism.org/event/neurodiverse-partners-support-group-10-21-26-2/
CATEGORIES:Neuro Diverse Partners Group
ATTACH;FMTTYPE=image/jpeg:https://spectrumautism.org/wp-content/uploads/2024/02/neurodiverse-partner-virtual-support-group-preview.jpg
END:VEVENT
BEGIN:VEVENT
DTSTART;TZID=America/New_York:20261118T120000
DTEND;TZID=America/New_York:20261118T133000
DTSTAMP:20260422T150035
CREATED:20250101T180907Z
LAST-MODIFIED:20251130T211250Z
UID:8991-1795003200-1795008600@spectrumautism.org
SUMMARY:Neurodiverse Partners Support Group
DESCRIPTION:
URL:https://spectrumautism.org/event/neurodiverse-partners-support-group-11-18-26-1/
CATEGORIES:Neuro Diverse Partners Group
ATTACH;FMTTYPE=image/jpeg:https://spectrumautism.org/wp-content/uploads/2024/02/neurodiverse-partner-virtual-support-group-preview.jpg
END:VEVENT
BEGIN:VEVENT
DTSTART;TZID=America/New_York:20261118T190000
DTEND;TZID=America/New_York:20261118T203000
DTSTAMP:20260422T150035
CREATED:20250101T181037Z
LAST-MODIFIED:20251130T211328Z
UID:8992-1795028400-1795033800@spectrumautism.org
SUMMARY:Neurodiverse Partners Support Group
DESCRIPTION:
URL:https://spectrumautism.org/event/neurodiverse-partners-support-group-11-18-26-2/
CATEGORIES:Neuro Diverse Partners Group
ATTACH;FMTTYPE=image/jpeg:https://spectrumautism.org/wp-content/uploads/2024/02/neurodiverse-partner-virtual-support-group-preview.jpg
END:VEVENT
END:VCALENDAR