BEGIN:VCALENDAR
VERSION:2.0
PRODID:-//SPECTRUM - ECPv6.15.20//NONSGML v1.0//EN
CALSCALE:GREGORIAN
METHOD:PUBLISH
X-ORIGINAL-URL:https://spectrumautism.org
X-WR-CALDESC:Events for SPECTRUM
REFRESH-INTERVAL;VALUE=DURATION:PT1H
X-Robots-Tag:noindex
X-PUBLISHED-TTL:PT1H
BEGIN:VTIMEZONE
TZID:America/New_York
BEGIN:DAYLIGHT
TZOFFSETFROM:-0500
TZOFFSETTO:-0400
TZNAME:EDT
DTSTART:20250309T070000
END:DAYLIGHT
BEGIN:STANDARD
TZOFFSETFROM:-0400
TZOFFSETTO:-0500
TZNAME:EST
DTSTART:20251102T060000
END:STANDARD
BEGIN:DAYLIGHT
TZOFFSETFROM:-0500
TZOFFSETTO:-0400
TZNAME:EDT
DTSTART:20260308T070000
END:DAYLIGHT
BEGIN:STANDARD
TZOFFSETFROM:-0400
TZOFFSETTO:-0500
TZNAME:EST
DTSTART:20261101T060000
END:STANDARD
BEGIN:DAYLIGHT
TZOFFSETFROM:-0500
TZOFFSETTO:-0400
TZNAME:EDT
DTSTART:20270314T070000
END:DAYLIGHT
BEGIN:STANDARD
TZOFFSETFROM:-0400
TZOFFSETTO:-0500
TZNAME:EST
DTSTART:20271107T060000
END:STANDARD
END:VTIMEZONE
BEGIN:VEVENT
DTSTART;VALUE=DATE:20260601
DTEND;VALUE=DATE:20260606
DTSTAMP:20260422T112705
CREATED:20241226T180742Z
LAST-MODIFIED:20251202T131833Z
UID:8882-1780272000-1780703999@spectrumautism.org
SUMMARY:Summer Day Camp: Week 1
DESCRIPTION:Weekly Theme: Under the Sea \nTime: 9:30 am to 3 pm
URL:https://spectrumautism.org/event/summer-day-camp-week-1/
LOCATION:First Baptist Church Of Duluth\, 2908 Duluth Hwy.\, Duluth\, GA\, 30096\, United States
CATEGORIES:Day Camp
END:VEVENT
BEGIN:VEVENT
DTSTART;VALUE=DATE:20260608
DTEND;VALUE=DATE:20260613
DTSTAMP:20260422T112705
CREATED:20241226T182529Z
LAST-MODIFIED:20251202T131938Z
UID:8886-1780876800-1781308799@spectrumautism.org
SUMMARY:Summer Day Camp: Week 2
DESCRIPTION:Theme: Wild\, Wild West \nTime: 9:30 a.m – 3:00 p.m.
URL:https://spectrumautism.org/event/summer-day-camp-week-2/
LOCATION:First Baptist Church Of Duluth\, 2908 Duluth Hwy.\, Duluth\, GA\, 30096\, United States
CATEGORIES:Day Camp
END:VEVENT
BEGIN:VEVENT
DTSTART;VALUE=DATE:20260615
DTEND;VALUE=DATE:20260620
DTSTAMP:20260422T112705
CREATED:20241226T190158Z
LAST-MODIFIED:20251202T132050Z
UID:8889-1781481600-1781913599@spectrumautism.org
SUMMARY:Summer Day Camp: Week 3
DESCRIPTION:Theme: Superheroes \nTime:  9:30 a.m. – 3:00 p.m.
URL:https://spectrumautism.org/event/summer-day-camp-week-3/
LOCATION:GA
CATEGORIES:Day Camp
END:VEVENT
BEGIN:VEVENT
DTSTART;VALUE=DATE:20260622
DTEND;VALUE=DATE:20260627
DTSTAMP:20260422T112705
CREATED:20241226T194244Z
LAST-MODIFIED:20251202T132157Z
UID:8896-1782086400-1782518399@spectrumautism.org
SUMMARY:Summer Day Camp: Week 4
DESCRIPTION:Theme: “The Ants Go Marching” and adventures with insects \nTime:  9:30 a.m. – 3:00 p.m.  \nLocation TBA
URL:https://spectrumautism.org/event/summer-day-camp-week-4/
LOCATION:Christ the Lord Lutheran Church\, 1001 Duluth Hwy\, Lawrenceville\, 30043\, United States
CATEGORIES:Day Camp
END:VEVENT
BEGIN:VEVENT
DTSTART;VALUE=DATE:20260629
DTEND;VALUE=DATE:20260704
DTSTAMP:20260422T112705
CREATED:20241226T195237Z
LAST-MODIFIED:20251202T132316Z
UID:8900-1782691200-1783123199@spectrumautism.org
SUMMARY:Summer Day Camp: Week 5
DESCRIPTION:Theme: Home of the Brave \nTime:  9:30 a.m. – 3:00 p.m.  \nDuring this special three-day week\, we will learn about what it means to be brave and strong.  How do we help our friends and be kind to each other.  Being kind is helping us to be brave.  This week campers will enjoy fun activities centered around social interaction\, cooperative play\, conversation skills\, turn taking\, and many more skills appropriate for their age and ability level all while learning about America. Engaging crafts\, music lessons\, play opportunities\, and outdoor activities will provide a variety of environments and chances to practice social interaction daily.
URL:https://spectrumautism.org/event/summer-day-camp-week-5/
LOCATION:First Baptist Church Of Duluth\, 2908 Duluth Hwy.\, Duluth\, GA\, 30096\, United States
CATEGORIES:Day Camp
END:VEVENT
BEGIN:VEVENT
DTSTART;VALUE=DATE:20260706
DTEND;VALUE=DATE:20260711
DTSTAMP:20260422T112705
CREATED:20241231T142603Z
LAST-MODIFIED:20251202T132412Z
UID:8921-1783296000-1783727999@spectrumautism.org
SUMMARY:Summer Day Camp: Week 6
DESCRIPTION:Theme: Space Odyssey \nTime:  9:30 a.m. – 3:00 p.m.
URL:https://spectrumautism.org/event/summer-day-camp-week-6/
LOCATION:First Baptist Church Of Duluth\, 2908 Duluth Hwy.\, Duluth\, GA\, 30096\, United States
CATEGORIES:Day Camp
END:VEVENT
BEGIN:VEVENT
DTSTART;TZID=America/New_York:20260912T093000
DTEND;TZID=America/New_York:20260912T150000
DTSTAMP:20260422T112705
CREATED:20260101T190219Z
LAST-MODIFIED:20260101T190219Z
UID:9719-1789205400-1789225200@spectrumautism.org
SUMMARY:Saturday Day Camp
DESCRIPTION:Are you in need of some respite? Does your child need a social opportunity? Spectrum Camps and Clubs is offering a Saturday Day Camp and School Break Camps for Thanksgiving and Spring Break weeks camps which will provide a fun filled day for your child/children. \nThe activities include social activities\, arts & crafts\, music\, outdoor play and group activities. Saturday Day Camp is for children 5 to young adult.
URL:https://spectrumautism.org/event/saturday-day-camp-09-12-26/
LOCATION:Spectrum Support Center\, 2997 Main Street\, Duluth\, GA\, 30097\, United States
CATEGORIES:Day Camp
ATTACH;FMTTYPE=image/jpeg:https://spectrumautism.org/wp-content/uploads/2025/11/saturday-day-camp-calendar-preview.jpg
END:VEVENT
BEGIN:VEVENT
DTSTART;TZID=America/New_York:20260919T093000
DTEND;TZID=America/New_York:20260919T150000
DTSTAMP:20260422T112705
CREATED:20260101T190335Z
LAST-MODIFIED:20260101T190335Z
UID:9720-1789810200-1789830000@spectrumautism.org
SUMMARY:Saturday Day Camp
DESCRIPTION:Are you in need of some respite? Does your child need a social opportunity? Spectrum Camps and Clubs is offering a Saturday Day Camp and School Break Camps for Thanksgiving and Spring Break weeks camps which will provide a fun filled day for your child/children. \nThe activities include social activities\, arts & crafts\, music\, outdoor play and group activities. Saturday Day Camp is for children 5 to young adult.
URL:https://spectrumautism.org/event/saturday-day-camp-09-19-26/
LOCATION:Spectrum Support Center\, 2997 Main Street\, Duluth\, GA\, 30097\, United States
CATEGORIES:Day Camp
ATTACH;FMTTYPE=image/jpeg:https://spectrumautism.org/wp-content/uploads/2025/11/saturday-day-camp-calendar-preview.jpg
END:VEVENT
BEGIN:VEVENT
DTSTART;TZID=America/New_York:20261017T093000
DTEND;TZID=America/New_York:20261017T150000
DTSTAMP:20260422T112705
CREATED:20260101T190446Z
LAST-MODIFIED:20260101T190446Z
UID:9721-1792229400-1792249200@spectrumautism.org
SUMMARY:Saturday Day Camp
DESCRIPTION:Are you in need of some respite? Does your child need a social opportunity? Spectrum Camps and Clubs is offering a Saturday Day Camp and School Break Camps for Thanksgiving and Spring Break weeks camps which will provide a fun filled day for your child/children. \nThe activities include social activities\, arts & crafts\, music\, outdoor play and group activities. Saturday Day Camp is for children 5 to young adult.
URL:https://spectrumautism.org/event/saturday-day-camp-10-17-26/
LOCATION:Spectrum Support Center\, 2997 Main Street\, Duluth\, GA\, 30097\, United States
CATEGORIES:Day Camp
ATTACH;FMTTYPE=image/jpeg:https://spectrumautism.org/wp-content/uploads/2025/11/saturday-day-camp-calendar-preview.jpg
END:VEVENT
BEGIN:VEVENT
DTSTART;TZID=America/New_York:20261024T093000
DTEND;TZID=America/New_York:20261024T150000
DTSTAMP:20260422T112705
CREATED:20260101T190610Z
LAST-MODIFIED:20260101T190610Z
UID:9722-1792834200-1792854000@spectrumautism.org
SUMMARY:Saturday Day Camp
DESCRIPTION:Are you in need of some respite? Does your child need a social opportunity? Spectrum Camps and Clubs is offering a Saturday Day Camp and School Break Camps for Thanksgiving and Spring Break weeks camps which will provide a fun filled day for your child/children. \nThe activities include social activities\, arts & crafts\, music\, outdoor play and group activities. Saturday Day Camp is for children 5 to young adult.
URL:https://spectrumautism.org/event/saturday-day-camp-10-24-26/
LOCATION:Spectrum Support Center\, 2997 Main Street\, Duluth\, GA\, 30097\, United States
CATEGORIES:Day Camp
ATTACH;FMTTYPE=image/jpeg:https://spectrumautism.org/wp-content/uploads/2025/11/saturday-day-camp-calendar-preview.jpg
END:VEVENT
BEGIN:VEVENT
DTSTART;TZID=America/New_York:20261107T093000
DTEND;TZID=America/New_York:20261107T150000
DTSTAMP:20260422T112705
CREATED:20260101T190721Z
LAST-MODIFIED:20260101T190721Z
UID:9723-1794043800-1794063600@spectrumautism.org
SUMMARY:Saturday Day Camp
DESCRIPTION:Are you in need of some respite? Does your child need a social opportunity? Spectrum Camps and Clubs is offering a Saturday Day Camp and School Break Camps for Thanksgiving and Spring Break weeks camps which will provide a fun filled day for your child/children. \nThe activities include social activities\, arts & crafts\, music\, outdoor play and group activities. Saturday Day Camp is for children 5 to young adult.
URL:https://spectrumautism.org/event/saturday-day-camp-11-07-26/
LOCATION:Spectrum Support Center\, 2997 Main Street\, Duluth\, GA\, 30097\, United States
CATEGORIES:Day Camp
ATTACH;FMTTYPE=image/jpeg:https://spectrumautism.org/wp-content/uploads/2025/11/saturday-day-camp-calendar-preview.jpg
END:VEVENT
BEGIN:VEVENT
DTSTART;TZID=America/New_York:20261114T093000
DTEND;TZID=America/New_York:20261114T150000
DTSTAMP:20260422T112705
CREATED:20260101T190847Z
LAST-MODIFIED:20260101T190847Z
UID:9724-1794648600-1794668400@spectrumautism.org
SUMMARY:Saturday Day Camp
DESCRIPTION:Are you in need of some respite? Does your child need a social opportunity? Spectrum Camps and Clubs is offering a Saturday Day Camp and School Break Camps for Thanksgiving and Spring Break weeks camps which will provide a fun filled day for your child/children. \nThe activities include social activities\, arts & crafts\, music\, outdoor play and group activities. Saturday Day Camp is for children 5 to young adult.
URL:https://spectrumautism.org/event/saturday-day-camp-11-14-26/
LOCATION:Spectrum Support Center\, 2997 Main Street\, Duluth\, GA\, 30097\, United States
CATEGORIES:Day Camp
ATTACH;FMTTYPE=image/jpeg:https://spectrumautism.org/wp-content/uploads/2025/11/saturday-day-camp-calendar-preview.jpg
END:VEVENT
BEGIN:VEVENT
DTSTART;VALUE=DATE:20261123
DTEND;VALUE=DATE:20261126
DTSTAMP:20260422T112705
CREATED:20250703T141731Z
LAST-MODIFIED:20260410T141901Z
UID:9306-1795392000-1795651199@spectrumautism.org
SUMMARY:Thanksgiving Break Mini-Camp
DESCRIPTION:
URL:https://spectrumautism.org/event/thanksgiving-break-mini-camp/
LOCATION:Spectrum Support Center\, 2997 Main Street\, Duluth\, GA\, 30097\, United States
CATEGORIES:Day Camp
ATTACH;FMTTYPE=image/jpeg:https://spectrumautism.org/wp-content/uploads/2026/04/thanksgiving-minicamp-02-16-26.jpg
END:VEVENT
BEGIN:VEVENT
DTSTART;TZID=America/New_York:20261205T093000
DTEND;TZID=America/New_York:20261205T150000
DTSTAMP:20260422T112705
CREATED:20260101T191008Z
LAST-MODIFIED:20260101T191008Z
UID:9725-1796463000-1796482800@spectrumautism.org
SUMMARY:Saturday Day Camp
DESCRIPTION:Are you in need of some respite? Does your child need a social opportunity? Spectrum Camps and Clubs is offering a Saturday Day Camp and School Break Camps for Thanksgiving and Spring Break weeks camps which will provide a fun filled day for your child/children. \nThe activities include social activities\, arts & crafts\, music\, outdoor play and group activities. Saturday Day Camp is for children 5 to young adult.
URL:https://spectrumautism.org/event/saturday-day-camp-12-05-26/
LOCATION:Spectrum Support Center\, 2997 Main Street\, Duluth\, GA\, 30097\, United States
CATEGORIES:Day Camp
ATTACH;FMTTYPE=image/jpeg:https://spectrumautism.org/wp-content/uploads/2025/11/saturday-day-camp-calendar-preview.jpg
END:VEVENT
BEGIN:VEVENT
DTSTART;TZID=America/New_York:20261212T093000
DTEND;TZID=America/New_York:20261212T150000
DTSTAMP:20260422T112705
CREATED:20260101T191125Z
LAST-MODIFIED:20260101T191125Z
UID:9726-1797067800-1797087600@spectrumautism.org
SUMMARY:Saturday Day Camp
DESCRIPTION:Are you in need of some respite? Does your child need a social opportunity? Spectrum Camps and Clubs is offering a Saturday Day Camp and School Break Camps for Thanksgiving and Spring Break weeks camps which will provide a fun filled day for your child/children. \nThe activities include social activities\, arts & crafts\, music\, outdoor play and group activities. Saturday Day Camp is for children 5 to young adult.
URL:https://spectrumautism.org/event/saturday-day-camp-12-12-26/
LOCATION:Spectrum Support Center\, 2997 Main Street\, Duluth\, GA\, 30097\, United States
CATEGORIES:Day Camp
ATTACH;FMTTYPE=image/jpeg:https://spectrumautism.org/wp-content/uploads/2025/11/saturday-day-camp-calendar-preview.jpg
END:VEVENT
END:VCALENDAR