BEGIN:VCALENDAR
VERSION:2.0
PRODID:-//SPECTRUM - ECPv6.15.20//NONSGML v1.0//EN
CALSCALE:GREGORIAN
METHOD:PUBLISH
X-WR-CALNAME:SPECTRUM
X-ORIGINAL-URL:https://spectrumautism.org
X-WR-CALDESC:Events for SPECTRUM
REFRESH-INTERVAL;VALUE=DURATION:PT1H
X-Robots-Tag:noindex
X-PUBLISHED-TTL:PT1H
BEGIN:VTIMEZONE
TZID:America/New_York
BEGIN:DAYLIGHT
TZOFFSETFROM:-0500
TZOFFSETTO:-0400
TZNAME:EDT
DTSTART:20250309T070000
END:DAYLIGHT
BEGIN:STANDARD
TZOFFSETFROM:-0400
TZOFFSETTO:-0500
TZNAME:EST
DTSTART:20251102T060000
END:STANDARD
BEGIN:DAYLIGHT
TZOFFSETFROM:-0500
TZOFFSETTO:-0400
TZNAME:EDT
DTSTART:20260308T070000
END:DAYLIGHT
BEGIN:STANDARD
TZOFFSETFROM:-0400
TZOFFSETTO:-0500
TZNAME:EST
DTSTART:20261101T060000
END:STANDARD
BEGIN:DAYLIGHT
TZOFFSETFROM:-0500
TZOFFSETTO:-0400
TZNAME:EDT
DTSTART:20270314T070000
END:DAYLIGHT
BEGIN:STANDARD
TZOFFSETFROM:-0400
TZOFFSETTO:-0500
TZNAME:EST
DTSTART:20271107T060000
END:STANDARD
END:VTIMEZONE
BEGIN:VEVENT
DTSTART;VALUE=DATE:20260601
DTEND;VALUE=DATE:20260606
DTSTAMP:20260420T035918
CREATED:20241226T180742Z
LAST-MODIFIED:20251202T131833Z
UID:8882-1780272000-1780703999@spectrumautism.org
SUMMARY:Summer Day Camp: Week 1
DESCRIPTION:Weekly Theme: Under the Sea \nTime: 9:30 am to 3 pm
URL:https://spectrumautism.org/event/summer-day-camp-week-1/
LOCATION:First Baptist Church Of Duluth\, 2908 Duluth Hwy.\, Duluth\, GA\, 30096\, United States
CATEGORIES:Day Camp
END:VEVENT
BEGIN:VEVENT
DTSTART;VALUE=DATE:20260608
DTEND;VALUE=DATE:20260613
DTSTAMP:20260420T035918
CREATED:20241226T182529Z
LAST-MODIFIED:20251202T131938Z
UID:8886-1780876800-1781308799@spectrumautism.org
SUMMARY:Summer Day Camp: Week 2
DESCRIPTION:Theme: Wild\, Wild West \nTime: 9:30 a.m – 3:00 p.m.
URL:https://spectrumautism.org/event/summer-day-camp-week-2/
LOCATION:First Baptist Church Of Duluth\, 2908 Duluth Hwy.\, Duluth\, GA\, 30096\, United States
CATEGORIES:Day Camp
END:VEVENT
BEGIN:VEVENT
DTSTART;VALUE=DATE:20260615
DTEND;VALUE=DATE:20260620
DTSTAMP:20260420T035918
CREATED:20241226T190158Z
LAST-MODIFIED:20251202T132050Z
UID:8889-1781481600-1781913599@spectrumautism.org
SUMMARY:Summer Day Camp: Week 3
DESCRIPTION:Theme: Superheroes \nTime:  9:30 a.m. – 3:00 p.m.
URL:https://spectrumautism.org/event/summer-day-camp-week-3/
LOCATION:GA
CATEGORIES:Day Camp
END:VEVENT
BEGIN:VEVENT
DTSTART;VALUE=DATE:20260622
DTEND;VALUE=DATE:20260627
DTSTAMP:20260420T035918
CREATED:20241226T194244Z
LAST-MODIFIED:20251202T132157Z
UID:8896-1782086400-1782518399@spectrumautism.org
SUMMARY:Summer Day Camp: Week 4
DESCRIPTION:Theme: “The Ants Go Marching” and adventures with insects \nTime:  9:30 a.m. – 3:00 p.m.  \nLocation TBA
URL:https://spectrumautism.org/event/summer-day-camp-week-4/
LOCATION:Christ the Lord Lutheran Church\, 1001 Duluth Hwy\, Lawrenceville\, 30043\, United States
CATEGORIES:Day Camp
END:VEVENT
BEGIN:VEVENT
DTSTART;VALUE=DATE:20260629
DTEND;VALUE=DATE:20260704
DTSTAMP:20260420T035918
CREATED:20241226T195237Z
LAST-MODIFIED:20251202T132316Z
UID:8900-1782691200-1783123199@spectrumautism.org
SUMMARY:Summer Day Camp: Week 5
DESCRIPTION:Theme: Home of the Brave \nTime:  9:30 a.m. – 3:00 p.m.  \nDuring this special three-day week\, we will learn about what it means to be brave and strong.  How do we help our friends and be kind to each other.  Being kind is helping us to be brave.  This week campers will enjoy fun activities centered around social interaction\, cooperative play\, conversation skills\, turn taking\, and many more skills appropriate for their age and ability level all while learning about America. Engaging crafts\, music lessons\, play opportunities\, and outdoor activities will provide a variety of environments and chances to practice social interaction daily.
URL:https://spectrumautism.org/event/summer-day-camp-week-5/
LOCATION:First Baptist Church Of Duluth\, 2908 Duluth Hwy.\, Duluth\, GA\, 30096\, United States
CATEGORIES:Day Camp
END:VEVENT
END:VCALENDAR