BEGIN:VCALENDAR
VERSION:2.0
PRODID:-//SPECTRUM - ECPv6.15.20//NONSGML v1.0//EN
CALSCALE:GREGORIAN
METHOD:PUBLISH
X-WR-CALNAME:SPECTRUM
X-ORIGINAL-URL:https://spectrumautism.org
X-WR-CALDESC:Events for SPECTRUM
REFRESH-INTERVAL;VALUE=DURATION:PT1H
X-Robots-Tag:noindex
X-PUBLISHED-TTL:PT1H
BEGIN:VTIMEZONE
TZID:America/New_York
BEGIN:DAYLIGHT
TZOFFSETFROM:-0500
TZOFFSETTO:-0400
TZNAME:EDT
DTSTART:20240310T070000
END:DAYLIGHT
BEGIN:STANDARD
TZOFFSETFROM:-0400
TZOFFSETTO:-0500
TZNAME:EST
DTSTART:20241103T060000
END:STANDARD
BEGIN:DAYLIGHT
TZOFFSETFROM:-0500
TZOFFSETTO:-0400
TZNAME:EDT
DTSTART:20250309T070000
END:DAYLIGHT
BEGIN:STANDARD
TZOFFSETFROM:-0400
TZOFFSETTO:-0500
TZNAME:EST
DTSTART:20251102T060000
END:STANDARD
BEGIN:DAYLIGHT
TZOFFSETFROM:-0500
TZOFFSETTO:-0400
TZNAME:EDT
DTSTART:20260308T070000
END:DAYLIGHT
BEGIN:STANDARD
TZOFFSETFROM:-0400
TZOFFSETTO:-0500
TZNAME:EST
DTSTART:20261101T060000
END:STANDARD
END:VTIMEZONE
BEGIN:VEVENT
DTSTART;TZID=America/New_York:20250817T150000
DTEND;TZID=America/New_York:20250817T160000
DTSTAMP:20260420T055806
CREATED:20250519T232550Z
LAST-MODIFIED:20250519T232550Z
UID:9227-1755442800-1755446400@spectrumautism.org
SUMMARY:Family Drum Circle
DESCRIPTION:Family Drum Circle – August 17\n                            \n                        \n                        Name Of The Person Registering(Required)\n                                                    \n                                                    First\n                                                    \n                                                    Last\n                        Email(Required)\n                            \n                        How Many Will Be Attending?(Required)Name And Age Of Each Person Attending(Required)Family Drum Circle Event\n					\n						Price:
URL:https://spectrumautism.org/event/family-drum-circle-08-17-25/
LOCATION:Spectrum Support Center\, 2997 Main Street\, Duluth\, GA\, 30097\, United States
END:VEVENT
END:VCALENDAR